BEGIN:VCALENDAR
PRODID:-//eluceo/ical//2.0/EN
VERSION:2.0
CALSCALE:GREGORIAN
BEGIN:VEVENT
UID:88aa9e2d8459e5a74b8dfd459e0a30f8
DTSTAMP:20260420T110516Z
SUMMARY:Tous au Théâtre le 1er décembre 2024 salle des fêtes Ghyvelde
DESCRIPTION:
URL:https://dunkerque-horizons.rotaryd1520.org/fr/agenda/show/45232
DTSTART;TZID=Europe/Zurich:20241201T153000
DTEND;TZID=Europe/Zurich:20241201T193000
LOCATION:Salle des fêtes Ghyvelde
CATEGORIES:Rotary
END:VEVENT
BEGIN:VTIMEZONE
TZID:Europe/Zurich
BEGIN:STANDARD
DTSTART:20241201T153000
TZNAME:CET
TZOFFSETTO:+0100
TZOFFSETFROM:+0100
END:STANDARD
END:VTIMEZONE
END:VCALENDAR
